BEGIN:VCALENDAR
VERSION:2.0
PRODID:-//CMON Golisano Children&#039;s Museum of Naples - ECPv6.15.20//NONSGML v1.0//EN
CALSCALE:GREGORIAN
METHOD:PUBLISH
X-WR-CALNAME:CMON Golisano Children&#039;s Museum of Naples
X-ORIGINAL-URL:https://www.cmon.org
X-WR-CALDESC:Events for CMON Golisano Children&#039;s Museum of Naples
REFRESH-INTERVAL;VALUE=DURATION:PT1H
X-Robots-Tag:noindex
X-PUBLISHED-TTL:PT1H
BEGIN:VTIMEZONE
TZID:UTC
BEGIN:STANDARD
TZOFFSETFROM:+0000
TZOFFSETTO:+0000
TZNAME:UTC
DTSTART:20240101T000000
END:STANDARD
END:VTIMEZONE
BEGIN:VEVENT
DTSTART;TZID=UTC:20251121T140000
DTEND;TZID=UTC:20251121T150000
DTSTAMP:20260422T060249
CREATED:20250604T154604Z
LAST-MODIFIED:20250604T154604Z
UID:10727924-1763733600-1763737200@www.cmon.org
SUMMARY:Music Makers
DESCRIPTION:Music Makers is a NEW program designed to enhance elementary students‘ musical experiences. As Music Makers\, we will cultivate a lasting love for music and the arts while developing our musical abilities by exploring musical concepts\, learning to read music\, and developing their own creative expression. CMON and make music with us! \nClasses are 60 minutes on Fridays from 2:00 – 3:00 p.m. \nProgram takes place during the school year and are $5 for CMON members and $10 for all other guests.\nGuests who are not yet members\, will need to pay for admission to the museum and the program fee. 
URL:https://www.cmon.org/event/music-makers/2025-11-21/
END:VEVENT
BEGIN:VEVENT
DTSTART;VALUE=DATE:20251124
DTEND;VALUE=DATE:20251129
DTSTAMP:20260422T060249
CREATED:20250604T161603Z
LAST-MODIFIED:20250604T161944Z
UID:10728114-1763942400-1764374399@www.cmon.org
SUMMARY:Fall Camp 2025
DESCRIPTION:Camp at CMON promotes discovery and experiential learning through daily STEAM (science\, technology\, engineering\, art\, and math) activities. Campers imagine\, design\, and connect to the world around them. Ignite your child’s curiosity and fuel learning. \nAge Range: \nGrades K-5 \nPricing: \n5 day: $450/ $400* \n4 day: $400/$325* \n*Discounted member pricing only available during member discount period \nDates: November 24 – 28 (No camp on Thanksgiving Day November 27)
URL:https://www.cmon.org/event/fall-camp-2025/
LOCATION:Golisano Children’s Museum of Naples\, 15080 Livingston Rd\, Naples\, Florida\, 34109\, United States
CATEGORIES:Camps
END:VEVENT
BEGIN:VEVENT
DTSTART;TZID=UTC:20251124T093000
DTEND;TZID=UTC:20251124T101500
DTSTAMP:20260422T060249
CREATED:20250604T154256Z
LAST-MODIFIED:20250604T154256Z
UID:10727904-1763976600-1763979300@www.cmon.org
SUMMARY:Music & Movement: Grown-up and Me
DESCRIPTION:This workshop is an expressive art program perfected to work through 45 minutes of music and movement while refining foundational tools like empowered movement\, attunement\, positive social engagement\, and safety building. Built on the foundation of collaboratively navigating self-esteem\, self-regulation\, and social empathy. Children ages 0-5  must attend with a parent/guardian who will participate in class alongside the child.  \nClasses are 45 minutes on Mondays from 9:30 – 10:15 a.m. \nProgram takes place during the school year and are $5 for CMON members and $10 for all other guests.\nGuests who are not yet members\, will need to pay for admission to the museum and the program fee. 
URL:https://www.cmon.org/event/music-movement-grown-up-and-me/2025-11-24/
END:VEVENT
BEGIN:VEVENT
DTSTART;VALUE=DATE:20251126
DTEND;VALUE=DATE:20251127
DTSTAMP:20260422T060249
CREATED:20250604T155831Z
LAST-MODIFIED:20250604T155831Z
UID:10728067-1764115200-1764201599@www.cmon.org
SUMMARY:Museum Closed
DESCRIPTION:CMON is CLOSED today!
URL:https://www.cmon.org/event/museum-closed-15/2025-11-26/
END:VEVENT
BEGIN:VEVENT
DTSTART;VALUE=DATE:20251127
DTEND;VALUE=DATE:20251128
DTSTAMP:20260422T060249
CREATED:20250604T155955Z
LAST-MODIFIED:20250630T144505Z
UID:10728092-1764201600-1764287999@www.cmon.org
SUMMARY:Museum Closed
DESCRIPTION:CMON is CLOSED today!
URL:https://www.cmon.org/event/museum-closed-17/
END:VEVENT
BEGIN:VEVENT
DTSTART;TZID=UTC:20251201T093000
DTEND;TZID=UTC:20251201T101500
DTSTAMP:20260422T060249
CREATED:20250604T154256Z
LAST-MODIFIED:20250604T154256Z
UID:10727905-1764581400-1764584100@www.cmon.org
SUMMARY:Music & Movement: Grown-up and Me
DESCRIPTION:This workshop is an expressive art program perfected to work through 45 minutes of music and movement while refining foundational tools like empowered movement\, attunement\, positive social engagement\, and safety building. Built on the foundation of collaboratively navigating self-esteem\, self-regulation\, and social empathy. Children ages 0-5  must attend with a parent/guardian who will participate in class alongside the child.  \nClasses are 45 minutes on Mondays from 9:30 – 10:15 a.m. \nProgram takes place during the school year and are $5 for CMON members and $10 for all other guests.\nGuests who are not yet members\, will need to pay for admission to the museum and the program fee. 
URL:https://www.cmon.org/event/music-movement-grown-up-and-me/2025-12-01/
END:VEVENT
BEGIN:VEVENT
DTSTART;TZID=UTC:20251202T123000
DTEND;TZID=UTC:20251202T131500
DTSTAMP:20260422T060249
CREATED:20250604T153810Z
LAST-MODIFIED:20250604T153810Z
UID:10727895-1764678600-1764681300@www.cmon.org
SUMMARY:Mini Wonders
DESCRIPTION:Mini Wonders Workshops are set up to help your child become kindergarten ready. Our CMON Educators closely follow the guidelines set out by our local school districts and child development advocates to guide your young ones to practice essential skills that enable the transition from PreK or home-based learning to a formal kindergarten classroom. \nMini Wonders serves children 3\, 4\, and 5-years-old. The skills and activities presented will be specifically geared toward the developmental skills and attention span of this age range. \nProgram takes place during the school year and are free for CMON members and $10 for all other guests.\nGuests who are not yet members\, will need to pay for admission to the museum and the program fee. \nThese hour long workshops take place on: \n\nTuesdays at 9:30 a.m. (CMON member exclusive class) and 12:30 p.m.\nThursdays at 9:30 a.m. (CMON member exclusive class) and 12:30 p.m.\n\nTo allow for participants to focus\, only registered students and their adult helpers will be allowed in the workshop. Due to the popularity of the Mini Wonders program\, failure to attend two consecutive classes will result in removal from future registered workshops. Please contact education@cmon.org if you are unable to attend class.
URL:https://www.cmon.org/event/mini-wonders-2/2025-12-02/
CATEGORIES:Mini Wonders
END:VEVENT
BEGIN:VEVENT
DTSTART;VALUE=DATE:20251203
DTEND;VALUE=DATE:20251204
DTSTAMP:20260422T060249
CREATED:20250604T155831Z
LAST-MODIFIED:20250604T155831Z
UID:10728068-1764720000-1764806399@www.cmon.org
SUMMARY:Museum Closed
DESCRIPTION:CMON is CLOSED today!
URL:https://www.cmon.org/event/museum-closed-15/2025-12-03/
END:VEVENT
BEGIN:VEVENT
DTSTART;TZID=UTC:20251204T103000
DTEND;TZID=UTC:20251204T111500
DTSTAMP:20260422T060249
CREATED:20250604T151315Z
LAST-MODIFIED:20250604T151315Z
UID:10727807-1764844200-1764846900@www.cmon.org
SUMMARY:Grown-Up and Me Art Workshop
DESCRIPTION:Grown-Up and Me Art is a class for grown-ups and their little ones (3+) to explore art together! Using safe\, child-friendly materials\, this class fosters bonding through interactivity that sparks imagination\, enhances fine motor skills\, and encourages social skills. Each class features a different art process project\, giving both children and grown-ups the chance to explore new artistic materials\, techniques and ideas. Plus\, grown-ups will help your little ones create a unique art project to take home and cherish. All are welcome to share the joy of creativity and bonding through art!  \nClasses are 45 minutes on Thursdays (Grown-up and Me) from 10:30 – 11:15 a.m. \nThe program takes place during the school year. \nThe fee is $5 for CMON members and $10 for all other guests.\nGuests who are not yet members will need to pay for admission to the museum and the program fee.
URL:https://www.cmon.org/event/grown-up-and-me-art-workshop-2/2025-12-04/
CATEGORIES:Homeschool Workshop
END:VEVENT
BEGIN:VEVENT
DTSTART;TZID=UTC:20251204T123000
DTEND;TZID=UTC:20251204T131500
DTSTAMP:20260422T060249
CREATED:20250604T153810Z
LAST-MODIFIED:20250604T153810Z
UID:10727896-1764851400-1764854100@www.cmon.org
SUMMARY:Mini Wonders
DESCRIPTION:Mini Wonders Workshops are set up to help your child become kindergarten ready. Our CMON Educators closely follow the guidelines set out by our local school districts and child development advocates to guide your young ones to practice essential skills that enable the transition from PreK or home-based learning to a formal kindergarten classroom. \nMini Wonders serves children 3\, 4\, and 5-years-old. The skills and activities presented will be specifically geared toward the developmental skills and attention span of this age range. \nProgram takes place during the school year and are free for CMON members and $10 for all other guests.\nGuests who are not yet members\, will need to pay for admission to the museum and the program fee. \nThese hour long workshops take place on: \n\nTuesdays at 9:30 a.m. (CMON member exclusive class) and 12:30 p.m.\nThursdays at 9:30 a.m. (CMON member exclusive class) and 12:30 p.m.\n\nTo allow for participants to focus\, only registered students and their adult helpers will be allowed in the workshop. Due to the popularity of the Mini Wonders program\, failure to attend two consecutive classes will result in removal from future registered workshops. Please contact education@cmon.org if you are unable to attend class.
URL:https://www.cmon.org/event/mini-wonders-2/2025-12-04/
CATEGORIES:Mini Wonders
END:VEVENT
BEGIN:VEVENT
DTSTART;VALUE=DATE:20251205
DTEND;VALUE=DATE:20251206
DTSTAMP:20260422T060249
CREATED:20250630T144218Z
LAST-MODIFIED:20250630T144218Z
UID:10728139-1764892800-1764979199@www.cmon.org
SUMMARY:Jingle Bell Bash 2025
DESCRIPTION:Mark your calendars for Jingle Bell Bash 2025 \nWhen: Friday\, December 5\, 2025
URL:https://www.cmon.org/event/jingle-bell-bash-2025/
END:VEVENT
BEGIN:VEVENT
DTSTART;TZID=UTC:20251205T093000
DTEND;TZID=UTC:20251205T101500
DTSTAMP:20260422T060249
CREATED:20250604T145320Z
LAST-MODIFIED:20250604T145320Z
UID:10727779-1764927000-1764929700@www.cmon.org
SUMMARY:Homeschool Workshop
DESCRIPTION:Join us on Fridays for Homeschool Workshops\, designed for students in Kindergarten through 5th Grade! These 45-minute hands-on programs foster curiosity and discovery in support of what students are learning at home. There will also be a special time to focus on social and emotional learning too! \nWorkshops are 45 minutes on Fridays from 9:30 – 10:15 a.m. or 1:00 – 1:45 p.m.  \nProgram is free for CMON members or $10 guests to the museum.\nGuests who are not yet members\, will need to pay for admission to the museum and the program fee. \nUpcoming Dates and Themes: \nDecember 5\, 12 | Themes: Energy and Coding \nTo allow for participants to focus\, only registered students and their adult helpers will be allowed in the workshop. Due to the popularity of Home School Workshops\, failure to attend two consecutive classes will result in removal from future registered workshops. Please contact education@cmon.org if you are unable to attend class.
URL:https://www.cmon.org/event/homeschool-workshop-8/2025-12-05/
CATEGORIES:Homeschool Workshop
END:VEVENT
BEGIN:VEVENT
DTSTART;TZID=UTC:20251205T113000
DTEND;TZID=UTC:20251205T123000
DTSTAMP:20260422T060249
CREATED:20250604T153328Z
LAST-MODIFIED:20250604T153328Z
UID:10727845-1764934200-1764937800@www.cmon.org
SUMMARY:Art Workshop
DESCRIPTION:Is your elementary age artist eager for an engaging and elevated art experience? Look no further than CMON’s (remove “new”) Art Workshops to explore new artists\, mediums\, techniques\, materials\, and genres. All classes will challenge the creator with more focused and detailed creations from impressionism to modern art. Each class will include a take-home frameable piece of art.  \nClasses are 60 minutes on Fridays from 11:30 a.m. – 12:30 p.m. \nThe program takes place during the school year. \nThe fee is $5 for CMON members and $10 for all other guests.\nGuests who are not yet members will need to pay for admission to the museum and the program fee.
URL:https://www.cmon.org/event/art-workshop/2025-12-05/
END:VEVENT
BEGIN:VEVENT
DTSTART;TZID=UTC:20251205T130000
DTEND;TZID=UTC:20251205T134500
DTSTAMP:20260422T060249
CREATED:20250604T145152Z
LAST-MODIFIED:20250604T145152Z
UID:10727774-1764939600-1764942300@www.cmon.org
SUMMARY:Homeschool Workshop
DESCRIPTION:Join us on Fridays for Homeschool Workshops\, designed for students in Kindergarten through 5th Grade! These 45-minute hands-on programs foster curiosity and discovery in support of what students are learning at home. There will also be a special time to focus on social and emotional learning too! \nWorkshops are 45 minutes on Fridays from 1:00 – 1:45 p.m.  \nProgram is free for CMON members or $10 guests to the museum.\nGuests who are not yet members\, will need to pay for admission to the museum and the program fee. \nUpcoming Dates and Themes: \nDecember 5\, 12 | Themes: Energy and Coding \nTo allow for participants to focus\, only registered students and their adult helpers will be allowed in the workshop. Due to the popularity of Home School Workshops\, failure to attend two consecutive classes will result in removal from future registered workshops. Please contact education@cmon.org if you are unable to attend class.
URL:https://www.cmon.org/event/homeschool-workshop-7/2025-12-05/
CATEGORIES:Homeschool Workshop
END:VEVENT
BEGIN:VEVENT
DTSTART;TZID=UTC:20251208T093000
DTEND;TZID=UTC:20251208T101500
DTSTAMP:20260422T060249
CREATED:20250604T154256Z
LAST-MODIFIED:20250604T154256Z
UID:10727906-1765186200-1765188900@www.cmon.org
SUMMARY:Music & Movement: Grown-up and Me
DESCRIPTION:This workshop is an expressive art program perfected to work through 45 minutes of music and movement while refining foundational tools like empowered movement\, attunement\, positive social engagement\, and safety building. Built on the foundation of collaboratively navigating self-esteem\, self-regulation\, and social empathy. Children ages 0-5  must attend with a parent/guardian who will participate in class alongside the child.  \nClasses are 45 minutes on Mondays from 9:30 – 10:15 a.m. \nProgram takes place during the school year and are $5 for CMON members and $10 for all other guests.\nGuests who are not yet members\, will need to pay for admission to the museum and the program fee. 
URL:https://www.cmon.org/event/music-movement-grown-up-and-me/2025-12-08/
END:VEVENT
BEGIN:VEVENT
DTSTART;TZID=UTC:20251209T123000
DTEND;TZID=UTC:20251209T131500
DTSTAMP:20260422T060249
CREATED:20250604T153810Z
LAST-MODIFIED:20250604T153810Z
UID:10727897-1765283400-1765286100@www.cmon.org
SUMMARY:Mini Wonders
DESCRIPTION:Mini Wonders Workshops are set up to help your child become kindergarten ready. Our CMON Educators closely follow the guidelines set out by our local school districts and child development advocates to guide your young ones to practice essential skills that enable the transition from PreK or home-based learning to a formal kindergarten classroom. \nMini Wonders serves children 3\, 4\, and 5-years-old. The skills and activities presented will be specifically geared toward the developmental skills and attention span of this age range. \nProgram takes place during the school year and are free for CMON members and $10 for all other guests.\nGuests who are not yet members\, will need to pay for admission to the museum and the program fee. \nThese hour long workshops take place on: \n\nTuesdays at 9:30 a.m. (CMON member exclusive class) and 12:30 p.m.\nThursdays at 9:30 a.m. (CMON member exclusive class) and 12:30 p.m.\n\nTo allow for participants to focus\, only registered students and their adult helpers will be allowed in the workshop. Due to the popularity of the Mini Wonders program\, failure to attend two consecutive classes will result in removal from future registered workshops. Please contact education@cmon.org if you are unable to attend class.
URL:https://www.cmon.org/event/mini-wonders-2/2025-12-09/
CATEGORIES:Mini Wonders
END:VEVENT
BEGIN:VEVENT
DTSTART;VALUE=DATE:20251210
DTEND;VALUE=DATE:20251211
DTSTAMP:20260422T060249
CREATED:20250604T155831Z
LAST-MODIFIED:20250604T155831Z
UID:10728069-1765324800-1765411199@www.cmon.org
SUMMARY:Museum Closed
DESCRIPTION:CMON is CLOSED today!
URL:https://www.cmon.org/event/museum-closed-15/2025-12-10/
END:VEVENT
BEGIN:VEVENT
DTSTART;TZID=UTC:20251210T173000
DTEND;TZID=UTC:20251210T193000
DTSTAMP:20260422T060249
CREATED:20250722T210013Z
LAST-MODIFIED:20251008T192319Z
UID:10728147-1765387800-1765395000@www.cmon.org
SUMMARY:CMON After Dark: Holiday Craft Night
DESCRIPTION:Join us for a Holiday Craft Night! More info coming soon! \nWhen: Wednesday\, December 10th from 5:30-7:30 p.m.
URL:https://www.cmon.org/event/mahjong-at-the-museum-2025-2/
END:VEVENT
BEGIN:VEVENT
DTSTART;TZID=UTC:20251211T090000
DTEND;TZID=UTC:20251211T100000
DTSTAMP:20260422T060249
CREATED:20250804T153859Z
LAST-MODIFIED:20250804T153859Z
UID:10728152-1765443600-1765447200@www.cmon.org
SUMMARY:Member Appreciation Holiday Event
DESCRIPTION:Join us for a special Member Appreciation Event at the museum during exclusive member hours: 9:00 – 10:00 AM. \nEnjoy complimentary coffee\, snacks\, and fun prizes for the kids— our way of saying thank you for being part of the CMON family! \n\n*No RSVP required
URL:https://www.cmon.org/event/member-appreciation-holiday-event/
END:VEVENT
BEGIN:VEVENT
DTSTART;TZID=UTC:20251211T103000
DTEND;TZID=UTC:20251211T111500
DTSTAMP:20260422T060249
CREATED:20250604T151315Z
LAST-MODIFIED:20250604T151315Z
UID:10727808-1765449000-1765451700@www.cmon.org
SUMMARY:Grown-Up and Me Art Workshop
DESCRIPTION:Grown-Up and Me Art is a class for grown-ups and their little ones (3+) to explore art together! Using safe\, child-friendly materials\, this class fosters bonding through interactivity that sparks imagination\, enhances fine motor skills\, and encourages social skills. Each class features a different art process project\, giving both children and grown-ups the chance to explore new artistic materials\, techniques and ideas. Plus\, grown-ups will help your little ones create a unique art project to take home and cherish. All are welcome to share the joy of creativity and bonding through art!  \nClasses are 45 minutes on Thursdays (Grown-up and Me) from 10:30 – 11:15 a.m. \nThe program takes place during the school year. \nThe fee is $5 for CMON members and $10 for all other guests.\nGuests who are not yet members will need to pay for admission to the museum and the program fee.
URL:https://www.cmon.org/event/grown-up-and-me-art-workshop-2/2025-12-11/
CATEGORIES:Homeschool Workshop
END:VEVENT
BEGIN:VEVENT
DTSTART;TZID=UTC:20251211T123000
DTEND;TZID=UTC:20251211T131500
DTSTAMP:20260422T060249
CREATED:20250604T153810Z
LAST-MODIFIED:20250604T153810Z
UID:10727898-1765456200-1765458900@www.cmon.org
SUMMARY:Mini Wonders
DESCRIPTION:Mini Wonders Workshops are set up to help your child become kindergarten ready. Our CMON Educators closely follow the guidelines set out by our local school districts and child development advocates to guide your young ones to practice essential skills that enable the transition from PreK or home-based learning to a formal kindergarten classroom. \nMini Wonders serves children 3\, 4\, and 5-years-old. The skills and activities presented will be specifically geared toward the developmental skills and attention span of this age range. \nProgram takes place during the school year and are free for CMON members and $10 for all other guests.\nGuests who are not yet members\, will need to pay for admission to the museum and the program fee. \nThese hour long workshops take place on: \n\nTuesdays at 9:30 a.m. (CMON member exclusive class) and 12:30 p.m.\nThursdays at 9:30 a.m. (CMON member exclusive class) and 12:30 p.m.\n\nTo allow for participants to focus\, only registered students and their adult helpers will be allowed in the workshop. Due to the popularity of the Mini Wonders program\, failure to attend two consecutive classes will result in removal from future registered workshops. Please contact education@cmon.org if you are unable to attend class.
URL:https://www.cmon.org/event/mini-wonders-2/2025-12-11/
CATEGORIES:Mini Wonders
END:VEVENT
BEGIN:VEVENT
DTSTART;TZID=UTC:20251211T150000
DTEND;TZID=UTC:20251211T170000
DTSTAMP:20260422T060249
CREATED:20250826T191600Z
LAST-MODIFIED:20250826T191600Z
UID:10728153-1765465200-1765472400@www.cmon.org
SUMMARY:Kendra Scott Give Back Event
DESCRIPTION:Join us for a Kendra Scott Gives Back event where 20% of proceeds will support CMON’s mission to inspire children and families to learn through play 💛  \n📍 Kendra Scott at Waterside Shops  \n📆 Thursday\, December 11  \n🕒 3:00 – 5:00 PM  \n\nCan’t make it in person? Shop online from 12/11–12/12 using code GIVEBACK-JTADQ at checkout!
URL:https://www.cmon.org/event/kendra-scott-give-back-event/
ATTACH;FMTTYPE=image/png:https://www.cmon.org/wp-content/uploads/2025/08/AUG-DEC-SOCIAL.png
END:VEVENT
BEGIN:VEVENT
DTSTART;TZID=UTC:20251212T093000
DTEND;TZID=UTC:20251212T101500
DTSTAMP:20260422T060249
CREATED:20250604T145320Z
LAST-MODIFIED:20250604T145320Z
UID:10727780-1765531800-1765534500@www.cmon.org
SUMMARY:Homeschool Workshop
DESCRIPTION:Join us on Fridays for Homeschool Workshops\, designed for students in Kindergarten through 5th Grade! These 45-minute hands-on programs foster curiosity and discovery in support of what students are learning at home. There will also be a special time to focus on social and emotional learning too! \nWorkshops are 45 minutes on Fridays from 9:30 – 10:15 a.m. or 1:00 – 1:45 p.m.  \nProgram is free for CMON members or $10 guests to the museum.\nGuests who are not yet members\, will need to pay for admission to the museum and the program fee. \nUpcoming Dates and Themes: \nDecember 5\, 12 | Themes: Energy and Coding \nTo allow for participants to focus\, only registered students and their adult helpers will be allowed in the workshop. Due to the popularity of Home School Workshops\, failure to attend two consecutive classes will result in removal from future registered workshops. Please contact education@cmon.org if you are unable to attend class.
URL:https://www.cmon.org/event/homeschool-workshop-8/2025-12-12/
CATEGORIES:Homeschool Workshop
END:VEVENT
BEGIN:VEVENT
DTSTART;TZID=UTC:20251212T113000
DTEND;TZID=UTC:20251212T123000
DTSTAMP:20260422T060249
CREATED:20250604T153328Z
LAST-MODIFIED:20250604T153328Z
UID:10727846-1765539000-1765542600@www.cmon.org
SUMMARY:Art Workshop
DESCRIPTION:Is your elementary age artist eager for an engaging and elevated art experience? Look no further than CMON’s (remove “new”) Art Workshops to explore new artists\, mediums\, techniques\, materials\, and genres. All classes will challenge the creator with more focused and detailed creations from impressionism to modern art. Each class will include a take-home frameable piece of art.  \nClasses are 60 minutes on Fridays from 11:30 a.m. – 12:30 p.m. \nThe program takes place during the school year. \nThe fee is $5 for CMON members and $10 for all other guests.\nGuests who are not yet members will need to pay for admission to the museum and the program fee.
URL:https://www.cmon.org/event/art-workshop/2025-12-12/
END:VEVENT
BEGIN:VEVENT
DTSTART;TZID=UTC:20251212T130000
DTEND;TZID=UTC:20251212T134500
DTSTAMP:20260422T060249
CREATED:20250604T145152Z
LAST-MODIFIED:20250604T145152Z
UID:10727775-1765544400-1765547100@www.cmon.org
SUMMARY:Homeschool Workshop
DESCRIPTION:Join us on Fridays for Homeschool Workshops\, designed for students in Kindergarten through 5th Grade! These 45-minute hands-on programs foster curiosity and discovery in support of what students are learning at home. There will also be a special time to focus on social and emotional learning too! \nWorkshops are 45 minutes on Fridays from 1:00 – 1:45 p.m.  \nProgram is free for CMON members or $10 guests to the museum.\nGuests who are not yet members\, will need to pay for admission to the museum and the program fee. \nUpcoming Dates and Themes: \nDecember 5\, 12 | Themes: Energy and Coding \nTo allow for participants to focus\, only registered students and their adult helpers will be allowed in the workshop. Due to the popularity of Home School Workshops\, failure to attend two consecutive classes will result in removal from future registered workshops. Please contact education@cmon.org if you are unable to attend class.
URL:https://www.cmon.org/event/homeschool-workshop-7/2025-12-12/
CATEGORIES:Homeschool Workshop
END:VEVENT
BEGIN:VEVENT
DTSTART;TZID=UTC:20251212T140000
DTEND;TZID=UTC:20251212T150000
DTSTAMP:20260422T060249
CREATED:20250604T154604Z
LAST-MODIFIED:20250604T154604Z
UID:10727925-1765548000-1765551600@www.cmon.org
SUMMARY:Music Makers
DESCRIPTION:Music Makers is a NEW program designed to enhance elementary students‘ musical experiences. As Music Makers\, we will cultivate a lasting love for music and the arts while developing our musical abilities by exploring musical concepts\, learning to read music\, and developing their own creative expression. CMON and make music with us! \nClasses are 60 minutes on Fridays from 2:00 – 3:00 p.m. \nProgram takes place during the school year and are $5 for CMON members and $10 for all other guests.\nGuests who are not yet members\, will need to pay for admission to the museum and the program fee. 
URL:https://www.cmon.org/event/music-makers/2025-12-12/
END:VEVENT
BEGIN:VEVENT
DTSTART;TZID=UTC:20251214T091500
DTEND;TZID=UTC:20251214T100000
DTSTAMP:20260422T060249
CREATED:20250411T000405Z
LAST-MODIFIED:20250411T000405Z
UID:10021391-1765703700-1765706400@www.cmon.org
SUMMARY:Mini Buddhas Kids Yoga
DESCRIPTION: This 30-minute session is designed for Mini Buddhas of all ages. Parents are encouraged to play and participate. Taught by Just Play by E.Co’s Elaina Vasta\, this session will introduce children to yoga through imaginative themes that take them on a journey incorporating yoga\, dance\, and play. \nRegistration cost is $30 per child (includes one parent and admission for the day). CMON Member’s will receive a $10 discount per registration (log-in required). Check-in begins at the front desk at 9:00 a.m.\n\nPlease bring a yoga mat if you have one!
URL:https://www.cmon.org/event/mini-buddhas-kids-yoga-15/2025-12-14/
LOCATION:Golisano Children’s Museum of Naples\, 15080 Livingston Rd\, Naples\, Florida\, 34109\, United States
END:VEVENT
BEGIN:VEVENT
DTSTART;TZID=UTC:20251214T100000
DTEND;TZID=UTC:20251221T163000
DTSTAMP:20260422T060249
CREATED:20250325T183125Z
LAST-MODIFIED:20250925T135917Z
UID:10021363-1765706400-1766334600@www.cmon.org
SUMMARY:The Scholastic Book Fair at CMON
DESCRIPTION:Let’s turn the page to adventure! The Scholastic Book Fair is coming to CMON from December 14-21\, and it’s your chance to discover new favorite stories\, beloved classics\, and fun learning adventures! \n*CMON admission required*
URL:https://www.cmon.org/event/the-scholastic-book-fair-at-cmon-2/
END:VEVENT
BEGIN:VEVENT
DTSTART;VALUE=DATE:20251217
DTEND;VALUE=DATE:20251218
DTSTAMP:20260422T060249
CREATED:20250604T155831Z
LAST-MODIFIED:20250604T155831Z
UID:10728070-1765929600-1766015999@www.cmon.org
SUMMARY:Museum Closed
DESCRIPTION:CMON is CLOSED today!
URL:https://www.cmon.org/event/museum-closed-15/2025-12-17/
END:VEVENT
BEGIN:VEVENT
DTSTART;VALUE=DATE:20251222
DTEND;VALUE=DATE:20251227
DTSTAMP:20260422T060249
CREATED:20250604T162209Z
LAST-MODIFIED:20250604T162209Z
UID:10728115-1766361600-1766793599@www.cmon.org
SUMMARY:Winter Camp 2025
DESCRIPTION:Camp at CMON promotes discovery and experiential learning through daily STEAM (science\, technology\, engineering\, art\, and math) activities. Campers imagine\, design\, and connect to the world around them. Ignite your child’s curiosity and fuel learning. \nAge Range: \nGrades K-5 \nPricing: \n5 day: $450/ $400* \n4 day: $400/$325* \n*Discounted member pricing only available during member discount period \nDates: December 22 – 26 (No camp December 24 or 25) and December 29 – January 2 (No camp January 1)
URL:https://www.cmon.org/event/winter-camp-2025/
LOCATION:Golisano Children’s Museum of Naples\, 15080 Livingston Rd\, Naples\, Florida\, 34109\, United States
CATEGORIES:Camps
END:VEVENT
END:VCALENDAR